BEGIN:VCALENDAR
VERSION:2.0
PRODID:gruene-lichtenberg.de
METHOD:PUBLISH
BEGIN:VTIMEZONE
TZID:Europe/Berlin
X-LIC-LOCATION:Europe/Berlin
BEGIN:DAYLIGHT
TZOFFSETFROM:+0100
TZOFFSETTO:+0200
TZNAME:CEST
DTSTART:19700329T020000
RRULE:FREQ=YEARLY;INTERVAL=1;BYDAY=-1SU;BYMONTH=3
END:DAYLIGHT
BEGIN:STANDARD
TZOFFSETFROM:+0200
TZOFFSETTO:+0100
TZNAME:CET
DTSTART:19701025T030000
RRULE:FREQ=YEARLY;INTERVAL=1;BYDAY=-1SU;BYMONTH=10
END:STANDARD
END:VTIMEZONE
BEGIN:VEVENT
UID:a9ce6ad8dd2a87c92104b8bc518509cd@gruene-lichtenberg.de
URL;VALUE=URI:https://gruene-lichtenberg.de/termine/ag-umwelt/
LOCATION:Online
SUMMARY:AG Umwelt
DESCRIPTION;ALTREP="data:text/html,%0A%3Cp%3EWir%20treffen%20uns%20zu%20T
 hemen%20rund%20um%20Natur%20und%20Umwelt.%20%3C%2Fp%3E%0A%0A%0A%0A%3Cp%3E
 F%C3%BCr%20die%20Einwahldaten%20wendet%20euch%20an%20Helena%20Serbent%20%
 28helena.serbent%40gruene-lichtenberg.de%29.%3C%2Fp%3E%0A":Wir treffen un
 s zu Themen rund um Natur und Umwelt.\n\nFür die Einwahldaten wendet euc
 h an Helena Serbent (helena.serbent@gruene-lichtenberg.de).
CLASS:PUBLIC
DTSTART;TZID=Europe/Berlin:20210901T193000
DTEND;TZID=Europe/Berlin:20210901T213000
DTSTAMP:20260424T022950
END:VEVENT
END:VCALENDAR